Package: pcaExplorer Version: 3.3.0 Command: chmod a+r pcaExplorer -R && F:\biocbuild\bbs-3.22-bioc\R\bin\R.exe CMD build --keep-empty-dirs --no-resave-data pcaExplorer StartedAt: 2025-07-22 21:07:01 -0400 (Tue, 22 Jul 2025) EndedAt: 2025-07-22 21:14:55 -0400 (Tue, 22 Jul 2025) EllapsedTime: 474.4 seconds RetCode: 0 Status: OK PackageFile: pcaExplorer_3.3.0.tar.gz PackageFileSize: 9.548 MiB