Package: pcaExplorer Version: 3.3.0 Command: rm -rf pcaExplorer.buildbin-libdir && mkdir pcaExplorer.buildbin-libdir && F:\biocbuild\bbs-3.22-bioc\R\bin\R.exe CMD INSTALL --build --library=pcaExplorer.buildbin-libdir pcaExplorer_3.3.0.tar.gz StartedAt: 2025-07-23 09:46:12 -0400 (Wed, 23 Jul 2025) EndedAt: 2025-07-23 09:47:32 -0400 (Wed, 23 Jul 2025) EllapsedTime: 79.6 seconds RetCode: 0 Status: OK PackageFile: pcaExplorer_3.3.0.zip PackageFileSize: 7.158 MiB