Package: pathview Version: 1.49.0 Command: chmod a+r pathview -R && F:\biocbuild\bbs-3.22-bioc\R\bin\R.exe CMD build --keep-empty-dirs --no-resave-data pathview StartedAt: 2025-07-22 21:06:44 -0400 (Tue, 22 Jul 2025) EndedAt: 2025-07-22 21:08:37 -0400 (Tue, 22 Jul 2025) EllapsedTime: 112.3 seconds RetCode: 0 Status: OK PackageFile: pathview_1.49.0.tar.gz PackageFileSize: 2.517 MiB