Package: pathview Version: 1.49.0 Command: rm -rf pathview.buildbin-libdir && mkdir pathview.buildbin-libdir && F:\biocbuild\bbs-3.22-bioc\R\bin\R.exe CMD INSTALL --build --library=pathview.buildbin-libdir pathview_1.49.0.tar.gz StartedAt: 2025-07-23 09:46:09 -0400 (Wed, 23 Jul 2025) EndedAt: 2025-07-23 09:46:42 -0400 (Wed, 23 Jul 2025) EllapsedTime: 32.9 seconds RetCode: 0 Status: OK PackageFile: pathview_1.49.0.zip PackageFileSize: 2.817 MiB