Package: pathlinkR Version: 1.5.2 Command: /Library/Frameworks/R.framework/Resources/bin/R CMD check --install=check:pathlinkR.install-out.txt --library=/Library/Frameworks/R.framework/Resources/library --no-vignettes --timings pathlinkR_1.5.2.tar.gz StartedAt: 2025-07-15 22:43:09 -0400 (Tue, 15 Jul 2025) EndedAt: 2025-07-15 22:50:09 -0400 (Tue, 15 Jul 2025) EllapsedTime: 420.4 seconds RetCode: 0 Status: OK CheckDir: pathlinkR.Rcheck Warnings: 0