Package: pathifier Version: 1.47.0 Command: /home/biocbuild/R/R/bin/R CMD INSTALL pathifier StartedAt: 2025-07-10 21:08:10 -0000 (Thu, 10 Jul 2025) EndedAt: 2025-07-10 21:08:53 -0000 (Thu, 10 Jul 2025) EllapsedTime: 43.2 seconds RetCode: 0 Status: OK