Package: pathRender Version: 1.77.0 Command: F:\biocbuild\bbs-3.22-bioc\R\bin\R.exe CMD check --no-multiarch --install=check:pathRender.install-out.txt --library=F:\biocbuild\bbs-3.22-bioc\R\library --no-vignettes --timings pathRender_1.77.0.tar.gz StartedAt: 2025-07-05 04:54:37 -0400 (Sat, 05 Jul 2025) EndedAt: 2025-07-05 04:56:33 -0400 (Sat, 05 Jul 2025) EllapsedTime: 115.8 seconds RetCode: 0 Status: OK CheckDir: pathRender.Rcheck Warnings: 0