Package: pathRender Version: 1.77.0 Command: chmod a+r pathRender -R && F:\biocbuild\bbs-3.22-bioc\R\bin\R.exe CMD build --keep-empty-dirs --no-resave-data pathRender StartedAt: 2025-07-02 21:11:13 -0400 (Wed, 02 Jul 2025) EndedAt: 2025-07-02 21:11:48 -0400 (Wed, 02 Jul 2025) EllapsedTime: 35.0 seconds RetCode: 0 Status: OK PackageFile: pathRender_1.77.0.tar.gz PackageFileSize: 147.9 KiB