Package: pathRender Version: 1.77.0 Command: /Library/Frameworks/R.framework/Resources/bin/R CMD check --install=check:pathRender.install-out.txt --library=/Library/Frameworks/R.framework/Resources/library --no-vignettes --timings pathRender_1.77.0.tar.gz StartedAt: 2025-06-29 22:20:29 -0400 (Sun, 29 Jun 2025) EndedAt: 2025-06-29 22:22:20 -0400 (Sun, 29 Jun 2025) EllapsedTime: 110.2 seconds RetCode: 0 Status: OK CheckDir: pathRender.Rcheck Warnings: 0