Package: pathRender Version: 1.77.0 Command: rm -rf pathRender.buildbin-libdir && mkdir pathRender.buildbin-libdir && /Users/biocbuild/BBS/utils/build-universal.sh pathRender_1.77.0.tar.gz /Library/Frameworks/R.framework/Resources/bin/R pathRender.buildbin-libdir StartedAt: 2025-06-29 22:28:05 -0400 (Sun, 29 Jun 2025) EndedAt: 2025-06-29 22:28:11 -0400 (Sun, 29 Jun 2025) EllapsedTime: 6.0 seconds RetCode: 0 Status: OK PackageFile: pathRender_1.77.0.tgz PackageFileSize: 356.3 KiB