Package: partCNV Version: 1.7.0 Command: /Library/Frameworks/R.framework/Resources/bin/R CMD INSTALL partCNV StartedAt: 2025-07-21 15:22:59 -0400 (Mon, 21 Jul 2025) EndedAt: 2025-07-21 15:23:55 -0400 (Mon, 21 Jul 2025) EllapsedTime: 56.3 seconds RetCode: 0 Status: OK