Package: partCNV Version: 1.7.0 Command: /Library/Frameworks/R.framework/Resources/bin/R CMD build --keep-empty-dirs --no-resave-data partCNV StartedAt: 2025-07-21 17:51:22 -0400 (Mon, 21 Jul 2025) EndedAt: 2025-07-21 17:53:39 -0400 (Mon, 21 Jul 2025) EllapsedTime: 137.2 seconds RetCode: 0 Status: OK PackageFile: partCNV_1.7.0.tar.gz PackageFileSize: 4.659 MiB