Package: parody Version: 1.67.0 Command: /home/biocbuild/R/R/bin/R CMD INSTALL parody StartedAt: 2025-07-14 20:11:42 -0000 (Mon, 14 Jul 2025) EndedAt: 2025-07-14 20:11:54 -0000 (Mon, 14 Jul 2025) EllapsedTime: 12.0 seconds RetCode: 0 Status: OK