Package: parody Version: 1.67.0 Command: /home/biocbuild/R/R/bin/R CMD check --install=check:parody.install-out.txt --library=/home/biocbuild/R/R/site-library --no-vignettes --timings parody_1.67.0.tar.gz StartedAt: 2025-07-18 09:44:03 -0000 (Fri, 18 Jul 2025) EndedAt: 2025-07-18 09:44:42 -0000 (Fri, 18 Jul 2025) EllapsedTime: 39.4 seconds RetCode: 0 Status: OK CheckDir: parody.Rcheck Warnings: 0