Package: parody Version: 1.67.0 Command: F:\biocbuild\bbs-3.22-bioc\R\bin\R.exe CMD INSTALL parody StartedAt: 2025-07-04 15:25:42 -0400 (Fri, 04 Jul 2025) EndedAt: 2025-07-04 15:25:57 -0400 (Fri, 04 Jul 2025) EllapsedTime: 14.9 seconds RetCode: 0 Status: OK