Package: parody Version: 1.67.0 Command: F:\biocbuild\bbs-3.22-bioc\R\bin\R.exe CMD check --no-multiarch --install=check:parody.install-out.txt --library=F:\biocbuild\bbs-3.22-bioc\R\library --no-vignettes --timings parody_1.67.0.tar.gz StartedAt: 2025-07-08 04:55:29 -0400 (Tue, 08 Jul 2025) EndedAt: 2025-07-08 04:56:19 -0400 (Tue, 08 Jul 2025) EllapsedTime: 50.1 seconds RetCode: 0 Status: OK CheckDir: parody.Rcheck Warnings: 0