Package: parody Version: 1.67.0 Command: chmod a+r parody -R && F:\biocbuild\bbs-3.22-bioc\R\bin\R.exe CMD build --keep-empty-dirs --no-resave-data parody StartedAt: 2025-07-04 21:00:53 -0400 (Fri, 04 Jul 2025) EndedAt: 2025-07-04 21:01:32 -0400 (Fri, 04 Jul 2025) EllapsedTime: 39.1 seconds RetCode: 0 Status: OK PackageFile: parody_1.67.0.tar.gz PackageFileSize: 304.7 KiB