Package: parody Version: 1.67.0 Command: rm -rf parody.buildbin-libdir && mkdir parody.buildbin-libdir && F:\biocbuild\bbs-3.22-bioc\R\bin\R.exe CMD INSTALL --build --library=parody.buildbin-libdir parody_1.67.0.tar.gz StartedAt: 2025-07-05 09:30:02 -0400 (Sat, 05 Jul 2025) EndedAt: 2025-07-05 09:30:14 -0400 (Sat, 05 Jul 2025) EllapsedTime: 11.4 seconds RetCode: 0 Status: OK PackageFile: parody_1.67.0.zip PackageFileSize: 351.4 KiB