Package: parody Version: 1.67.0 Command: /Library/Frameworks/R.framework/Resources/bin/R CMD INSTALL parody StartedAt: 2025-07-03 15:05:22 -0400 (Thu, 03 Jul 2025) EndedAt: 2025-07-03 15:06:02 -0400 (Thu, 03 Jul 2025) EllapsedTime: 40.0 seconds RetCode: 0 Status: OK