Package: parody Version: 1.67.0 Command: /Library/Frameworks/R.framework/Resources/bin/R CMD build --keep-empty-dirs --no-resave-data parody StartedAt: 2025-07-04 17:49:13 -0400 (Fri, 04 Jul 2025) EndedAt: 2025-07-04 17:49:32 -0400 (Fri, 04 Jul 2025) EllapsedTime: 18.6 seconds RetCode: 0 Status: OK PackageFile: parody_1.67.0.tar.gz PackageFileSize: 481.6 KiB