Package: parody Version: 1.67.0 Command: /Library/Frameworks/R.framework/Resources/bin/R CMD INSTALL parody StartedAt: 2025-07-01 15:02:12 -0400 (Tue, 01 Jul 2025) EndedAt: 2025-07-01 15:02:14 -0400 (Tue, 01 Jul 2025) EllapsedTime: 2.4 seconds RetCode: 0 Status: OK