Package: parody Version: 1.67.0 Command: /Library/Frameworks/R.framework/Resources/bin/R CMD check --install=check:parody.install-out.txt --library=/Library/Frameworks/R.framework/Resources/library --no-vignettes --timings parody_1.67.0.tar.gz StartedAt: 2025-07-01 20:37:32 -0400 (Tue, 01 Jul 2025) EndedAt: 2025-07-01 20:37:43 -0400 (Tue, 01 Jul 2025) EllapsedTime: 11.2 seconds RetCode: 0 Status: OK CheckDir: parody.Rcheck Warnings: 0