Package: parody Version: 1.67.0 Command: rm -rf parody.buildbin-libdir && mkdir parody.buildbin-libdir && /Users/biocbuild/BBS/utils/build-universal.sh parody_1.67.0.tar.gz /Library/Frameworks/R.framework/Resources/bin/R parody.buildbin-libdir StartedAt: 2025-07-01 22:28:51 -0400 (Tue, 01 Jul 2025) EndedAt: 2025-07-01 22:28:53 -0400 (Tue, 01 Jul 2025) EllapsedTime: 2.0 seconds RetCode: 0 Status: OK PackageFile: parody_1.67.0.tgz PackageFileSize: 525.3 KiB