Package: parglms Version: 1.41.0 Command: rm -rf parglms.buildbin-libdir && mkdir parglms.buildbin-libdir && /Users/biocbuild/BBS/utils/build-universal.sh parglms_1.41.0.tar.gz /Library/Frameworks/R.framework/Resources/bin/R parglms.buildbin-libdir StartedAt: 2025-07-02 01:11:14 -0400 (Wed, 02 Jul 2025) EndedAt: 2025-07-02 01:11:22 -0400 (Wed, 02 Jul 2025) EllapsedTime: 8.1 seconds RetCode: 0 Status: OK PackageFile: parglms_1.41.0.tgz PackageFileSize: 294.1 KiB