Package: panp Version: 1.79.0 Command: chmod a+r panp -R && F:\biocbuild\bbs-3.22-bioc\R\bin\R.exe CMD build --keep-empty-dirs --no-resave-data panp StartedAt: 2025-07-24 21:15:18 -0400 (Thu, 24 Jul 2025) EndedAt: 2025-07-24 21:15:36 -0400 (Thu, 24 Jul 2025) EllapsedTime: 17.6 seconds RetCode: 0 Status: OK PackageFile: panp_1.79.0.tar.gz PackageFileSize: 511.9 KiB