Package: panp Version: 1.79.0 Command: /Library/Frameworks/R.framework/Resources/bin/R CMD INSTALL panp StartedAt: 2025-07-20 15:23:32 -0400 (Sun, 20 Jul 2025) EndedAt: 2025-07-20 15:23:47 -0400 (Sun, 20 Jul 2025) EllapsedTime: 14.6 seconds RetCode: 0 Status: OK