Package: panp Version: 1.79.0 Command: /Library/Frameworks/R.framework/Resources/bin/R CMD build --keep-empty-dirs --no-resave-data panp StartedAt: 2025-07-20 18:00:29 -0400 (Sun, 20 Jul 2025) EndedAt: 2025-07-20 18:01:20 -0400 (Sun, 20 Jul 2025) EllapsedTime: 51.4 seconds RetCode: 0 Status: OK PackageFile: panp_1.79.0.tar.gz PackageFileSize: 670.6 KiB