Package: panp Version: 1.79.0 Command: /Library/Frameworks/R.framework/Resources/bin/R CMD check --install=check:panp.install-out.txt --library=/Library/Frameworks/R.framework/Resources/library --no-vignettes --timings panp_1.79.0.tar.gz StartedAt: 2025-07-22 20:41:57 -0400 (Tue, 22 Jul 2025) EndedAt: 2025-07-22 20:42:12 -0400 (Tue, 22 Jul 2025) EllapsedTime: 14.2 seconds RetCode: 0 Status: OK CheckDir: panp.Rcheck Warnings: 0