Package: panelcn.mops Version: 1.31.0 Command: chmod a+r panelcn.mops -R && F:\biocbuild\bbs-3.22-bioc\R\bin\R.exe CMD build --keep-empty-dirs --no-resave-data panelcn.mops StartedAt: 2025-07-01 21:01:10 -0400 (Tue, 01 Jul 2025) EndedAt: 2025-07-01 21:02:00 -0400 (Tue, 01 Jul 2025) EllapsedTime: 50.9 seconds RetCode: 0 Status: OK PackageFile: panelcn.mops_1.31.0.tar.gz PackageFileSize: 569.5 KiB