Package: panelcn.mops Version: 1.31.0 Command: rm -rf panelcn.mops.buildbin-libdir && mkdir panelcn.mops.buildbin-libdir && F:\biocbuild\bbs-3.22-bioc\R\bin\R.exe CMD INSTALL --build --library=panelcn.mops.buildbin-libdir panelcn.mops_1.31.0.tar.gz StartedAt: 2025-07-02 09:30:24 -0400 (Wed, 02 Jul 2025) EndedAt: 2025-07-02 09:30:48 -0400 (Wed, 02 Jul 2025) EllapsedTime: 24.0 seconds RetCode: 0 Status: OK PackageFile: panelcn.mops_1.31.0.zip PackageFileSize: 431 KiB