Package: pandaR Version: 1.41.0 Command: chmod a+r pandaR -R && F:\biocbuild\bbs-3.22-bioc\R\bin\R.exe CMD build --keep-empty-dirs --no-resave-data pandaR StartedAt: 2025-07-01 21:00:56 -0400 (Tue, 01 Jul 2025) EndedAt: 2025-07-01 21:02:12 -0400 (Tue, 01 Jul 2025) EllapsedTime: 75.7 seconds RetCode: 0 Status: OK PackageFile: pandaR_1.41.0.tar.gz PackageFileSize: 8.658 MiB