Package: pairkat Version: 1.15.0 Command: /Library/Frameworks/R.framework/Resources/bin/R CMD INSTALL pairkat StartedAt: 2025-07-11 15:18:23 -0400 (Fri, 11 Jul 2025) EndedAt: 2025-07-11 15:18:54 -0400 (Fri, 11 Jul 2025) EllapsedTime: 31.2 seconds RetCode: 0 Status: OK