Package: pairkat Version: 1.15.0 Command: /Library/Frameworks/R.framework/Resources/bin/R CMD check --install=check:pairkat.install-out.txt --library=/Library/Frameworks/R.framework/Resources/library --no-vignettes --timings pairkat_1.15.0.tar.gz StartedAt: 2025-07-11 22:33:23 -0400 (Fri, 11 Jul 2025) EndedAt: 2025-07-11 22:48:27 -0400 (Fri, 11 Jul 2025) EllapsedTime: 903.7 seconds RetCode: 0 Status: OK CheckDir: pairkat.Rcheck Warnings: 0