Package: pairkat Version: 1.15.0 Command: rm -rf pairkat.buildbin-libdir && mkdir pairkat.buildbin-libdir && /Users/biocbuild/BBS/utils/build-universal.sh pairkat_1.15.0.tar.gz /Library/Frameworks/R.framework/Resources/bin/R pairkat.buildbin-libdir StartedAt: 2025-07-12 01:10:26 -0400 (Sat, 12 Jul 2025) EndedAt: 2025-07-12 01:11:00 -0400 (Sat, 12 Jul 2025) EllapsedTime: 34.8 seconds RetCode: 0 Status: OK PackageFile: pairkat_1.15.0.tgz PackageFileSize: 858.2 KiB