Package: pairkat Version: 1.15.0 Command: /Library/Frameworks/R.framework/Resources/bin/R CMD INSTALL pairkat StartedAt: 2025-07-15 15:12:41 -0400 (Tue, 15 Jul 2025) EndedAt: 2025-07-15 15:12:50 -0400 (Tue, 15 Jul 2025) EllapsedTime: 9.0 seconds RetCode: 0 Status: OK