Package: pairedGSEA Version: 1.9.0 Command: /home/biocbuild/R/R/bin/R CMD check --install=check:pairedGSEA.install-out.txt --library=/home/biocbuild/R/R/site-library --no-vignettes --timings pairedGSEA_1.9.0.tar.gz StartedAt: 2025-07-08 09:25:35 -0000 (Tue, 08 Jul 2025) EndedAt: 2025-07-08 09:36:04 -0000 (Tue, 08 Jul 2025) EllapsedTime: 629.2 seconds RetCode: 0 Status: OK CheckDir: pairedGSEA.Rcheck Warnings: 0