Package: pairedGSEA Version: 1.9.0 Command: F:\biocbuild\bbs-3.22-bioc\R\bin\R.exe CMD check --no-multiarch --install=check:pairedGSEA.install-out.txt --library=F:\biocbuild\bbs-3.22-bioc\R\library --no-vignettes --timings pairedGSEA_1.9.0.tar.gz StartedAt: 2025-07-08 04:53:06 -0400 (Tue, 08 Jul 2025) EndedAt: 2025-07-08 05:03:22 -0400 (Tue, 08 Jul 2025) EllapsedTime: 616.1 seconds RetCode: 0 Status: OK CheckDir: pairedGSEA.Rcheck Warnings: 0