Package: pairedGSEA Version: 1.9.0 Command: /home/biocbuild/bbs-3.22-bioc/R/bin/R CMD INSTALL pairedGSEA StartedAt: 2025-07-04 15:31:40 -0400 (Fri, 04 Jul 2025) EndedAt: 2025-07-04 15:32:13 -0400 (Fri, 04 Jul 2025) EllapsedTime: 32.4 seconds RetCode: 0 Status: OK