Package: pairedGSEA Version: 1.9.0 Command: /home/biocbuild/bbs-3.22-bioc/R/bin/R CMD build --keep-empty-dirs --no-resave-data --md5 pairedGSEA StartedAt: 2025-07-04 18:26:14 -0400 (Fri, 04 Jul 2025) EndedAt: 2025-07-04 18:29:18 -0400 (Fri, 04 Jul 2025) EllapsedTime: 184.3 seconds RetCode: 0 Status: OK PackageFile: pairedGSEA_1.9.0.tar.gz PackageFileSize: 559.4 KiB