Package: pairedGSEA Version: 1.9.0 Command: /Library/Frameworks/R.framework/Resources/bin/R CMD INSTALL pairedGSEA StartedAt: 2025-07-04 15:29:57 -0400 (Fri, 04 Jul 2025) EndedAt: 2025-07-04 15:30:42 -0400 (Fri, 04 Jul 2025) EllapsedTime: 45.4 seconds RetCode: 0 Status: OK