Package: pairedGSEA Version: 1.9.0 Command: /Library/Frameworks/R.framework/Resources/bin/R CMD check --install=check:pairedGSEA.install-out.txt --library=/Library/Frameworks/R.framework/Resources/library --no-vignettes --timings pairedGSEA_1.9.0.tar.gz StartedAt: 2025-07-04 22:23:33 -0400 (Fri, 04 Jul 2025) EndedAt: 2025-07-04 22:34:05 -0400 (Fri, 04 Jul 2025) EllapsedTime: 632.1 seconds RetCode: 0 Status: OK CheckDir: pairedGSEA.Rcheck Warnings: 0