Package: pairedGSEA Version: 1.9.0 Command: /Library/Frameworks/R.framework/Resources/bin/R CMD INSTALL pairedGSEA StartedAt: 2025-07-07 15:18:12 -0400 (Mon, 07 Jul 2025) EndedAt: 2025-07-07 15:18:26 -0400 (Mon, 07 Jul 2025) EllapsedTime: 14.4 seconds RetCode: 0 Status: OK