Package: pairedGSEA Version: 1.9.0 Command: rm -rf pairedGSEA.buildbin-libdir && mkdir pairedGSEA.buildbin-libdir && /Users/biocbuild/BBS/utils/build-universal.sh pairedGSEA_1.9.0.tar.gz /Library/Frameworks/R.framework/Resources/bin/R pairedGSEA.buildbin-libdir StartedAt: 2025-07-07 22:26:32 -0400 (Mon, 07 Jul 2025) EndedAt: 2025-07-07 22:26:48 -0400 (Mon, 07 Jul 2025) EllapsedTime: 15.4 seconds RetCode: 0 Status: OK PackageFile: pairedGSEA_1.9.0.tgz PackageFileSize: 673.6 KiB