Package: pageRank Version: 1.19.0 Command: /home/biocbuild/R/R/bin/R CMD build --keep-empty-dirs --no-resave-data pageRank StartedAt: 2025-07-25 02:40:29 -0000 (Fri, 25 Jul 2025) EndedAt: 2025-07-25 02:42:39 -0000 (Fri, 25 Jul 2025) EllapsedTime: 129.3 seconds RetCode: 0 Status: OK PackageFile: pageRank_1.19.0.tar.gz PackageFileSize: 119.3 KiB