Package: pageRank Version: 1.19.0 Command: F:\biocbuild\bbs-3.22-bioc\R\bin\R.exe CMD INSTALL pageRank StartedAt: 2025-07-21 16:43:26 -0400 (Mon, 21 Jul 2025) EndedAt: 2025-07-21 16:44:12 -0400 (Mon, 21 Jul 2025) EllapsedTime: 45.8 seconds RetCode: 0 Status: OK