Package: pageRank Version: 1.19.0 Command: chmod a+r pageRank -R && F:\biocbuild\bbs-3.22-bioc\R\bin\R.exe CMD build --keep-empty-dirs --no-resave-data pageRank StartedAt: 2025-07-21 21:03:15 -0400 (Mon, 21 Jul 2025) EndedAt: 2025-07-21 21:05:25 -0400 (Mon, 21 Jul 2025) EllapsedTime: 130.2 seconds RetCode: 0 Status: OK PackageFile: pageRank_1.19.0.tar.gz PackageFileSize: 122.9 KiB