Package: pageRank Version: 1.19.0 Command: rm -rf pageRank.buildbin-libdir && mkdir pageRank.buildbin-libdir && F:\biocbuild\bbs-3.22-bioc\R\bin\R.exe CMD INSTALL --build --library=pageRank.buildbin-libdir pageRank_1.19.0.tar.gz StartedAt: 2025-07-22 09:44:49 -0400 (Tue, 22 Jul 2025) EndedAt: 2025-07-22 09:45:40 -0400 (Tue, 22 Jul 2025) EllapsedTime: 50.4 seconds RetCode: 0 Status: OK PackageFile: pageRank_1.19.0.zip PackageFileSize: 179.2 KiB