Package: pageRank Version: 1.19.0 Command: /home/biocbuild/bbs-3.22-bioc/R/bin/R CMD INSTALL pageRank StartedAt: 2025-07-09 16:50:07 -0400 (Wed, 09 Jul 2025) EndedAt: 2025-07-09 16:50:57 -0400 (Wed, 09 Jul 2025) EllapsedTime: 49.5 seconds RetCode: 0 Status: OK