Package: pageRank Version: 1.19.0 Command: /home/biocbuild/bbs-3.22-bioc/R/bin/R CMD check --install=check:pageRank.install-out.txt --library=/home/biocbuild/bbs-3.22-bioc/R/site-library --timings pageRank_1.19.0.tar.gz StartedAt: 2025-07-10 01:59:37 -0400 (Thu, 10 Jul 2025) EndedAt: 2025-07-10 02:08:01 -0400 (Thu, 10 Jul 2025) EllapsedTime: 504.0 seconds RetCode: 0 Status: OK CheckDir: pageRank.Rcheck Warnings: 0