Package: pageRank Version: 1.19.0 Command: /home/biocbuild/bbs-3.22-bioc/R/bin/R CMD build --keep-empty-dirs --no-resave-data --md5 pageRank StartedAt: 2025-07-09 19:31:44 -0400 (Wed, 09 Jul 2025) EndedAt: 2025-07-09 19:33:36 -0400 (Wed, 09 Jul 2025) EllapsedTime: 112.3 seconds RetCode: 0 Status: OK PackageFile: pageRank_1.19.0.tar.gz PackageFileSize: 123.6 KiB